BEGIN:VCALENDAR
VERSION:2.0
PRODID:-//Sabre//Sabre VObject 4.5.8//EN
CALSCALE:GREGORIAN
BEGIN:VEVENT
UID:sabre-vobject-a97e9cca-0e4d-4ab8-95db-375551a6d4f5
DTSTAMP:20260422T202615Z
SUMMARY:Festgottesdienst - Heilige Messe
DESCRIPTION:https://winzer.bistum-augsburg-portal.de/festgottesdienst-heili
 ge-messe_id1695382
DTSTART;TZID=Europe/Berlin:20260329T180000
DURATION:PT30M
LOCATION:St. Michael\, Hauptstraße 38\, 86480 Aletshausen Winzer
END:VEVENT
END:VCALENDAR
