BEGIN:VCALENDAR
VERSION:2.0
PRODID:-//Sabre//Sabre VObject 4.5.8//EN
CALSCALE:GREGORIAN
BEGIN:VEVENT
UID:sabre-vobject-3c002756-89ab-433d-b44f-3a92940a46ee
DTSTAMP:20260422T230616Z
SUMMARY:Segnung der Palmzweige (an der Kapelle)\, anschl. Prozession zur Pf
 arrkirche
DESCRIPTION:https://winzer.bistum-augsburg-portal.de/segnung-der-palmzweige
 -an-der-kapelle-anschl-prozession-zur-pfarrkirche_id1695381
DTSTART;TZID=Europe/Berlin:20260329T174500
DURATION:PT30M
LOCATION:St. Michael\, Hauptstraße 38\, 86480 Aletshausen Winzer
END:VEVENT
END:VCALENDAR
