BEGIN:VCALENDAR
VERSION:2.0
PRODID:-//Sabre//Sabre VObject 4.5.8//EN
CALSCALE:GREGORIAN
BEGIN:VEVENT
UID:sabre-vobject-8026d40e-3ec5-4dbe-be7a-73b21bf8632e
DTSTAMP:20260425T105502Z
SUMMARY:Entfällt: Rosenkranz
DESCRIPTION:https://winzer.bistum-augsburg-portal.de/entfaellt-rosenkranz_i
 d1695380
DTSTART;TZID=Europe/Berlin:20260329T173000
DURATION:PT30M
LOCATION:St. Michael\, Hauptstraße 38\, 86480 Aletshausen Winzer
END:VEVENT
END:VCALENDAR
