BEGIN:VCALENDAR
VERSION:2.0
PRODID:-//Sabre//Sabre VObject 4.5.8//EN
CALSCALE:GREGORIAN
BEGIN:VEVENT
UID:sabre-vobject-d0be53ed-49b1-4aa5-a3f8-5d802b8644c2
DTSTAMP:20260422T175415Z
SUMMARY:Beichtgelegenheit (bis 11:00 Uhr)
DESCRIPTION:https://winzer.bistum-augsburg-portal.de/beichtgelegenheit-bis-
 11-00-uhr_id1695339
DTSTART;TZID=Europe/Berlin:20260403T100000
DURATION:PT30M
LOCATION:St. Michael\, Hauptstraße 38\, 86480 Aletshausen Winzer
END:VEVENT
END:VCALENDAR
