BEGIN:VCALENDAR
VERSION:2.0
PRODID:-//Sabre//Sabre VObject 4.5.8//EN
CALSCALE:GREGORIAN
BEGIN:VEVENT
UID:sabre-vobject-a9e6c6cd-9dd3-4547-b388-d8656f7186ca
DTSTAMP:20260423T062112Z
SUMMARY:Heilige Messe
DESCRIPTION:https://winzer.bistum-augsburg-portal.de/heilige-messe_id169308
 8
DTSTART;TZID=Europe/Berlin:20260325T190000
DURATION:PT30M
LOCATION:St. Michael\, Hauptstraße 38\, 86480 Aletshausen Winzer
END:VEVENT
END:VCALENDAR
