BEGIN:VCALENDAR
VERSION:2.0
PRODID:-//Sabre//Sabre VObject 4.5.8//EN
CALSCALE:GREGORIAN
BEGIN:VEVENT
UID:sabre-vobject-51827337-e191-4196-9d09-de004ccad4bd
DTSTAMP:20260425T134400Z
SUMMARY:Heilige Messe
DESCRIPTION:https://winzer.bistum-augsburg-portal.de/heilige-messe_id169308
 7
DTSTART;TZID=Europe/Berlin:20260322T101500
DURATION:PT30M
LOCATION:St. Michael\, Hauptstraße 38\, 86480 Aletshausen Winzer
END:VEVENT
END:VCALENDAR
