BEGIN:VCALENDAR
VERSION:2.0
PRODID:-//Sabre//Sabre VObject 4.5.8//EN
CALSCALE:GREGORIAN
BEGIN:VEVENT
UID:sabre-vobject-c667d9f9-622f-42d1-bf87-82986d81402a
DTSTAMP:20260423T075027Z
SUMMARY:Beichtgelegenheit
DESCRIPTION:https://winzer.bistum-augsburg-portal.de/beichtgelegenheit_id16
 93078
DTSTART;TZID=Europe/Berlin:20260325T181500
DURATION:PT30M
LOCATION:St. Michael\, Hauptstraße 38\, 86480 Aletshausen Winzer
END:VEVENT
END:VCALENDAR
